BEGIN:VCALENDAR
VERSION:2.0
PRODID:-//eventon.com NONSGML v1.0//EN
CALSCALE:GREGORIAN
METHOD:PUBLISH
BEGIN:VEVENT
UID:69ea9c1f8c577
DTSTAMP:20260423T222431Z
DTSTART:20260514T163000Z
DTEND:20260514T210000Z
LOCATION:
SUMMARY:RAHA Board of Directors Meeting (In-Person)
DESCRIPTION:RAHA Board of Directors Meeting (In-Person)\nhttps://rahaalbert
 a.ca/events/raha-board-of-directors-meeting-virtual-copy/
URL:https://rahaalberta.ca/events/raha-board-of-directors-meeting-virtual-copy/
END:VEVENT
END:VCALENDAR